BEGIN:VCALENDAR
VERSION:2.0
PRODID:-//Squarespace Inc/Squarespace 6//v6//EN
BEGIN:VEVENT
UID:55a5d4a9e4b0cad16bcbbdd4@squarespace.com
DTSTAMP:20150717T011449Z
DTSTART:20151021T150000Z
DTEND:20151021T160000Z
SUMMARY:Watsons Bay 55+ Club: Kim Carruthers De-Cluttering Session
GEO:-33.844878;151.281774
LOCATION:Watsons Bay Library\, Marine Parade\, Watsons Bay\, NSW\, 2030\, A
 ustralia
END:VEVENT
END:VCALENDAR
