BEGIN:VCALENDAR
VERSION:2.0
PRODID:-//Squarespace Inc/Squarespace 6//v6//EN
BEGIN:VEVENT
UID:560b2526e4b067a54c332c22@squarespace.com
DTSTAMP:20150930T001607Z
DTSTART:20151023T143000Z
DTEND:20151023T153000Z
SUMMARY:Maria Katsonis at Balwyn Library
GEO:-37.813642;145.085508
LOCATION:Balywn Library\, 336 Whitehorse Road\, Balwyn\, VIC 3103\, Austral
 ia
END:VEVENT
END:VCALENDAR
