BEGIN:VCALENDAR
VERSION:2.0
PRODID:-//Squarespace Inc/Squarespace 6//v6//EN
BEGIN:VEVENT
UID:55a859fde4b0c3b7c347933b@squarespace.com
DTSTAMP:20150717T013812Z
DTSTART:20151027T154000Z
DTEND:20151027T164000Z
SUMMARY:Jane Mathews at Mind and Its Potential Conference
GEO:-33.795715;151.183698
LOCATION:The Concourse\, 409 Victoria Ave\, Chatswood\, NSW\, 2067\, Austra
 lia
END:VEVENT
END:VCALENDAR
