BEGIN:VCALENDAR
VERSION:2.0
PRODID:-//Squarespace Inc/Squarespace 6//v6//EN
BEGIN:VEVENT
UID:560b22f7e4b067a54c331b5f@squarespace.com
DTSTAMP:20151001T020858Z
DTSTART:20151007T230000Z
DTEND:20151008T000000Z
SUMMARY:Maria Katsonis at Fitzroy Town Hall
GEO:-37.802104;144.979684
LOCATION:Fitzroy Town Hall\, 201 Napier St\, Fitzroy\, Australia
END:VEVENT
END:VCALENDAR
