BEGIN:VCALENDAR
VERSION:2.0
PRODID:-//Squarespace Inc/Squarespace 6//v6//EN
BEGIN:VEVENT
UID:561dac7ce4b0be465246c18c@squarespace.com
DTSTAMP:20151014T011726Z
DTSTART:20151112T230000Z
DTEND:20151113T000000Z
SUMMARY:Meet the Writers: Honey Brown and Ann Turner
GEO:-33.86994;151.207345
LOCATION:Dymocks Sydney\, 424 - 430 George Street\, Sydney\, NSW 2000\, Aus
 tralia
END:VEVENT
END:VCALENDAR
