BEGIN:VCALENDAR
VERSION:2.0
PRODID:-//Squarespace Inc/Squarespace 6//v6//EN
BEGIN:VEVENT
UID:563169e5e4b04a46c6483305@squarespace.com
DTSTAMP:20151029T004146Z
DTSTART:20151116T233000Z
DTEND:20151117T003000Z
SUMMARY:Maria Katsonis at SHORTS@45
GEO:-37.814739;144.973061
LOCATION:fortyfive downstairs\, 45 Flinders Lane\, Melbourne\, VIC\, 3000\, 
 Australia
END:VEVENT
END:VCALENDAR
