BEGIN:VCALENDAR
VERSION:2.0
PRODID:-//Squarespace Inc/Squarespace 6//v6//EN
BEGIN:VEVENT
UID:560b280de4b0137d9f549706@squarespace.com
DTSTAMP:20150930T001600Z
DTSTART:20151118T000000Z
DTEND:20151118T010000Z
SUMMARY:Maria Katsonis at Muse Wine Bar in Canberra
GEO:-35.31959;149.137038
LOCATION:Muse Canberra\, East Hotel\, 69 Canberra Ave\, Kingston ACT 2602\, 
 Australia
END:VEVENT
END:VCALENDAR
