BEGIN:VCALENDAR
VERSION:2.0
PRODID:-//Squarespace Inc/Squarespace 6//v6//EN
BEGIN:VEVENT
UID:56316b6ae4b0326d058f4187@squarespace.com
DTSTAMP:20151029T004458Z
DTSTART:20151125T233000Z
DTEND:20151126T003000Z
SUMMARY:[untitled] Open Book: The Good Greek Girl by Maria Katsonis
GEO:-37.849893;144.993175
LOCATION:Prahran Library\, 180 Greville Street\, Prahran\, VIC\, 3181\, Aus
 tralia
END:VEVENT
END:VCALENDAR
