BEGIN:VCALENDAR
VERSION:2.0
PRODID:-//Squarespace Inc/Squarespace 6//v6//EN
BEGIN:VEVENT
UID:55a5d370e4b0062f13589dde@squarespace.com
DTSTAMP:20150717T011505Z
DTSTART:20151127T150000Z
DTEND:20151127T160000Z
SUMMARY:Tea Topics: Kim Carruthers De-Cluttering Session at Woollahra Counc
 il Chambers
GEO:-33.872128;151.24811
LOCATION:Woollahra Council Chambers\, 536 New South Head Rd\, Double Bay\, 
 NSW\, 2028\, Australia
END:VEVENT
END:VCALENDAR
