BEGIN:VCALENDAR
VERSION:2.0
PRODID:-//Squarespace Inc/Squarespace 6//v6//EN
BEGIN:VEVENT
UID:55a858bce4b0273cc547edf0@squarespace.com
DTSTAMP:20150717T013826Z
DTSTART:20151027T201000Z
DTEND:20151027T211000Z
SUMMARY:Kim Carruthers at Mind and Its Potential Conference
GEO:-33.795715;151.183698
LOCATION:The Concourse\, 409 Victoria Ave\, Chatswood\, NSW\, 2067\, Austra
 lia
END:VEVENT
END:VCALENDAR
