BEGIN:VCALENDAR
VERSION:2.0
PRODID:-//Squarespace Inc/Squarespace 6//v6//EN
BEGIN:VEVENT
UID:55c82285e4b0076fb4ee41ac@squarespace.com
DTSTAMP:20150810T041447Z
DTSTART:20150827T220000Z
DTEND:20150827T230000Z
SUMMARY:Good Muslim Boy\, Good Greek Girl
GEO:-37.818925;144.960176
LOCATION:Immigration Museum\, 400 Flinders St\, Melbourne\, VIC\, 3000\, Au
 stralia
END:VEVENT
END:VCALENDAR
