BEGIN:VCALENDAR
VERSION:2.0
PRODID:-//Squarespace Inc/Squarespace 6//v6//EN
BEGIN:VEVENT
UID:55c82158e4b0ea0e042102b5@squarespace.com
DTSTAMP:20150810T041402Z
DTSTART:20150824T221500Z
DTEND:20150824T231500Z
SUMMARY:The Next Big Thing
GEO:-37.810162;144.965379
LOCATION:The Moat\, 176 Little Lonsdale St\, Melbourne\, VIC\, 3000\, Austr
 alia
END:VEVENT
END:VCALENDAR
