BEGIN:VCALENDAR
VERSION:2.0
PRODID:-//Squarespace Inc/Squarespace 6//v6//EN
BEGIN:VEVENT
UID:55c822f5e4b08a8ba62c23ce@squarespace.com
DTSTAMP:20150810T041611Z
DTSTART:20150829T150000Z
DTEND:20150829T160000Z
SUMMARY:Workshop: Writing Memoir
GEO:-37.561569;143.885245
LOCATION:Museum of Australian Democracy Eureka (M.A.D.E.)\, Stawell Street 
 South\, Ballarat\, VIC 3350\, AUSTRALIA
END:VEVENT
END:VCALENDAR
