BEGIN:VCALENDAR
VERSION:2.0
PRODID:-//Squarespace Inc/Squarespace 6//v6//EN
BEGIN:VEVENT
UID:55c820e2e4b0f16d8cbe3141@squarespace.com
DTSTAMP:20150810T041259Z
DTSTART:20150823T170000Z
DTEND:20150823T180000Z
SUMMARY:Classified: Lit vs Genre
GEO:-37.815207;144.963937
LOCATION:ACMI Cinema 1\, Federation Square\, Crn Fliders St and Swanston St
 \, Melbourne\, VIC\, 3000\, Australia
END:VEVENT
END:VCALENDAR
