BEGIN:VCALENDAR
VERSION:2.0
PRODID:-//Squarespace Inc/Squarespace 6//v6//EN
BEGIN:VEVENT
UID:55c82389e4b026cbe91bfb52@squarespace.com
DTSTAMP:20150810T041537Z
DTSTART:20150829T133000Z
DTEND:20150829T143000Z
SUMMARY:Coffee & Papers at M.A.D.E
GEO:-37.561569;143.885245
LOCATION:Museum of Australian Democracy Eureka (M.A.D.E.)\, Stawell St Sout
 h\, Ballarat\, VIC\, 3350\, Australia
END:VEVENT
END:VCALENDAR
