BEGIN:VCALENDAR
VERSION:2.0
PRODID:-//Squarespace Inc/Squarespace 6//v6//EN
BEGIN:VEVENT
UID:55a5d532e4b0b9904ed0067b@squarespace.com
DTSTAMP:20150715T033842Z
DTSTART:20150831T220000Z
DTEND:20150831T230000Z
SUMMARY:The Next Big Thing: Honey Brown at The Wheeler Centre
GEO:-37.810162;144.965379
LOCATION:The Moat Bar\, 176 Little Lonsdale St\, Melbourne\, VIC\, 3000\, A
 ustralia
END:VEVENT
END:VCALENDAR
