BEGIN:VCALENDAR
VERSION:2.0
PRODID:-//Squarespace Inc/Squarespace 6//v6//EN
BEGIN:VEVENT
UID:55c80c65e4b02a74ffe1a307@squarespace.com
DTSTAMP:20150810T041212Z
DTSTART:20150823T140000Z
DTEND:20150823T150000Z
SUMMARY:After Gone Girl
GEO:-37.812062;144.965018
LOCATION:ACMI Cinema 1\, Federation Square\, Cnr Flinders St and Swanston S
 t\, Melbourne\, VIC\, 3000\, Australia
END:VEVENT
END:VCALENDAR
