BEGIN:VCALENDAR
VERSION:2.0
PRODID:-//Squarespace Inc/Squarespace 6//v6//EN
BEGIN:VEVENT
UID:55e91e49e4b02b6f6d818c30@squarespace.com
DTSTAMP:20150904T043446Z
DTSTART:20150912T153000Z
DTEND:20150912T163000Z
SUMMARY:Maria Katonis at Word for Word Festival
GEO:-38.143906;144.360722
LOCATION:Deakin University\, Waterfront Campus\, Geelong\, VIC\, 3220\, Aus
 tralia
END:VEVENT
END:VCALENDAR
