BEGIN:VCALENDAR
VERSION:2.0
PRODID:-//Squarespace Inc/Squarespace 6//v6//EN
BEGIN:VEVENT
UID:55e91f75e4b0861a145ae308@squarespace.com
DTSTAMP:20150904T044156Z
DTSTART:20150917T223000Z
DTEND:20150917T233000Z
SUMMARY:Maria Katsonis at St Kilda Library
GEO:-37.86783;144.988889
LOCATION:St Kilda Library\, 150 Carlisle Street\, Saint Kilda\, VIC\, 3182\
 , Australia
END:VEVENT
END:VCALENDAR
