BEGIN:VCALENDAR
VERSION:2.0
PRODID:-//Squarespace Inc/Squarespace 6//v6//EN
BEGIN:VEVENT
UID:55e9204de4b034fe93202cf4@squarespace.com
DTSTAMP:20150904T044126Z
DTSTART:20150927T140000Z
DTEND:20150927T200000Z
SUMMARY:Writers in the Park Festival
GEO:-33.885493;151.232622
LOCATION:Centennial Park\, Paddington NSW\, 2021\, Australia
END:VEVENT
END:VCALENDAR
