BEGIN:VCALENDAR
VERSION:2.0
PRODID:-//Squarespace Inc/Squarespace 6//v6//EN
BEGIN:VEVENT
UID:57faeb426b8f5bb7f2bbe492@squarespace.com
DTSTAMP:20161010T024207Z
DTSTART:20161020T230000Z
DTEND:20161021T000000Z
SUMMARY:Not Guilty at Hurstville Library
GEO:-33.962014;151.105164
LOCATION:Hurstville Library\, Queens Road\, Hurstville\, NSW\, 2220\, Austr
 alia
END:VEVENT
END:VCALENDAR
