BEGIN:VCALENDAR
VERSION:2.0
PRODID:-//Squarespace Inc/Squarespace 6//v6//EN
BEGIN:VEVENT
UID:582aa0029f7456fa1e168ba7@squarespace.com
DTSTAMP:20161115T054424Z
DTSTART:20161117T233000Z
DTEND:20161118T003000Z
SUMMARY:Katherine Johnson speaks about The Better Son at Riverbend Books
END:VEVENT
END:VCALENDAR
