BEGIN:VCALENDAR
VERSION:2.0
PRODID:-//Squarespace Inc/Squarespace 6//v6//EN
BEGIN:VEVENT
UID:582b8e02bebafb10ec260d48@squarespace.com
DTSTAMP:20161115T224559Z
DTSTART:20161118T150000Z
DTEND:20161118T160000Z
SUMMARY:Author Encounter: Katherine Johnson at Broadbeach Library
END:VEVENT
END:VCALENDAR
