BEGIN:VCALENDAR
VERSION:2.0
PRODID:-//Squarespace Inc/Squarespace 6//v6//EN
BEGIN:VEVENT
UID:57a0159cd2b857f8830663fe@squarespace.com
DTSTAMP:20161010T024048Z
DTSTART:20161123T234500Z
DTEND:20161124T011500Z
SUMMARY:Rebellious Daughters at Stonnington Literary Festival
END:VEVENT
END:VCALENDAR
