BEGIN:VCALENDAR
VERSION:2.0
PRODID:-//Squarespace Inc/Squarespace 6//v6//EN
BEGIN:VEVENT
UID:583e1ea3197aea245018dbf2@squarespace.com
DTSTAMP:20161130T004540Z
DTSTART:20161201T170000Z
DTEND:20161201T180000Z
SUMMARY:Meet Author Katherine Johnson at Kingston LINC
END:VEVENT
END:VCALENDAR
