BEGIN:VCALENDAR
VERSION:2.0
PRODID:-//Squarespace Inc/Squarespace 6//v6//EN
BEGIN:VEVENT
UID:57a011b41b631be7d81c3707@squarespace.com
DTSTAMP:20160802T032924Z
DTSTART:20160914T223000Z
DTEND:20160915T000000Z
SUMMARY:Rebellious Daughters Geelong Library
GEO:-38.147073;144.356583
LOCATION:Geelong Library\, 51 Little Malop Street\, Geelong\, VIC\, 3220\, 
 Australia
END:VEVENT
END:VCALENDAR
