BEGIN:VCALENDAR
VERSION:2.0
PRODID:-//Squarespace Inc/Squarespace 6//v6//EN
BEGIN:VEVENT
UID:57a01a849de4bbbd26c0ad6a@squarespace.com
DTSTAMP:20160802T041046Z
DTSTART:20160811T180000Z
DTEND:20160811T190000Z
SUMMARY:Goulburn Valley Library Visit
END:VEVENT
END:VCALENDAR
