BEGIN:VCALENDAR
VERSION:2.0
PRODID:-//Squarespace Inc/Squarespace 6//v6//EN
BEGIN:VEVENT
UID:57a01dbb46c3c4c4a2f0361f@squarespace.com
DTSTAMP:20160802T041831Z
DTSTART:20160817T230000Z
DTEND:20160819T003000Z
SUMMARY:Monash Library Mt Waverley Branch with Hebe de Souza
END:VEVENT
END:VCALENDAR
