BEGIN:VCALENDAR
VERSION:2.0
PRODID:-//Squarespace Inc/Squarespace 6//v6//EN
BEGIN:VEVENT
UID:579ffbccd1758ee73db2e621@squarespace.com
DTSTAMP:20160802T022031Z
DTSTART:20160818T220000Z
DTEND:20160818T233000Z
SUMMARY:Rebellious Daughters at Hill of Content Melbourne
END:VEVENT
END:VCALENDAR
