BEGIN:VCALENDAR
VERSION:2.0
PRODID:-//Squarespace Inc/Squarespace 6//v6//EN
BEGIN:VEVENT
UID:57a0282f03596ed4bfa3d32b@squarespace.com
DTSTAMP:20160802T050629Z
DTSTART:20160910T154500Z
DTEND:20160910T164500Z
SUMMARY:Batemans Bay Writers Festival: STATE OF THE ARTS with Annabel Morle
 y
END:VEVENT
END:VCALENDAR
