BEGIN:VCALENDAR
VERSION:2.0
PRODID:-//Squarespace Inc/Squarespace 6//v6//EN
BEGIN:VEVENT
UID:57a0149ed482e9bf459b3bf3@squarespace.com
DTSTAMP:20161010T023045Z
DTSTART:20161113T212000Z
DTEND:20161114T220000Z
SUMMARY:Rebellious Daughters at Newtown Festival 2016
END:VEVENT
END:VCALENDAR
