BEGIN:VCALENDAR
VERSION:2.0
PRODID:-//Squarespace Inc/Squarespace 6//v6//EN
BEGIN:VEVENT
UID:57a01fc0be65949f3b87c1b4@squarespace.com
DTSTAMP:20160802T042654Z
DTSTART:20160825T223000Z
DTEND:20160825T233000Z
SUMMARY:Eastern Regional Libraries Discussion with Hebe de Souza
END:VEVENT
END:VCALENDAR
