BEGIN:VCALENDAR
VERSION:2.0
PRODID:-//Squarespace Inc/Squarespace 6//v6//EN
BEGIN:VEVENT
UID:57a0005cd1758ee73db3127e@squarespace.com
DTSTAMP:20160802T024537Z
DTSTART:20160828T180000Z
DTEND:20160828T190000Z
SUMMARY:Sydney Jewish Writers Festival
GEO:-33.892782;151.245145
LOCATION:Main Hall Waverley Library\, 32-48 Denison Street\, Bondi Junction
 \, NSW\, 2022\, Australia
END:VEVENT
END:VCALENDAR
