BEGIN:VCALENDAR
VERSION:2.0
PRODID:-//Squarespace Inc/Squarespace 6//v6//EN
BEGIN:VEVENT
UID:57a0241dbe65949f3b87dee9@squarespace.com
DTSTAMP:20160802T045642Z
DTSTART:20160910T130000Z
DTEND:20160910T140000Z
SUMMARY:Batemans Bay Writers Festival: LIFESTYLES with Annabel Morley
END:VEVENT
END:VCALENDAR
