BEGIN:VCALENDAR
VERSION:2.0
PRODID:-//Squarespace Inc/Squarespace 6//v6//EN
BEGIN:VEVENT
UID:57a02a7a29687f7ef297af8e@squarespace.com
DTSTAMP:20160802T051406Z
DTSTART:20160912T133000Z
DTEND:20160912T143000Z
SUMMARY:Batemans Bay Writers Festival: MEMOIR - TELLING TRUE STORIES with A
 nnabel Morley
END:VEVENT
END:VCALENDAR
