BEGIN:VCALENDAR
VERSION:2.0
PRODID:-//Squarespace Inc/Squarespace 6//v6//EN
BEGIN:VEVENT
UID:57a00a5103596ed4bfa2e919@squarespace.com
DTSTAMP:20160802T032016Z
DTSTART:20160912T183000Z
DTEND:20160912T193000Z
SUMMARY:Brisbane Writer's Festival
END:VEVENT
END:VCALENDAR
