BEGIN:VCALENDAR
VERSION:2.0
PRODID:-//Squarespace Inc/Squarespace 6//v6//EN
BEGIN:VEVENT
UID:57a004564402439535f0701c@squarespace.com
DTSTAMP:20160802T024909Z
DTSTART:20160902T200000Z
DTEND:20160902T210000Z
SUMMARY:Rebellious Daughters at the 2016 Melbourne Writer's Festival
GEO:-37.815207;144.963937
LOCATION:The Cube\, Fed Square\, Flinders St\, Melbourne VIC 3000\, Austral
 ia
END:VEVENT
END:VCALENDAR
