BEGIN:VCALENDAR
VERSION:2.0
PRODID:-//Squarespace Inc/Squarespace 6//v6//EN
BEGIN:VEVENT
UID:5a274296652deadbded92f96@squarespace.com
DTSTAMP:20171206T014007Z
DTSTART:20180110T160000Z
DTEND:20180110T170000Z
SUMMARY:Meet Author Peter Nash at Woollhara Library
END:VEVENT
END:VCALENDAR
