BEGIN:VCALENDAR
VERSION:2.0
PRODID:-//Squarespace Inc/Squarespace 6//v6//EN
BEGIN:VEVENT
UID:588ffb37d482e91a3027d928@squarespace.com
DTSTAMP:20171206T010630Z
DTSTART:20170216T233000Z
DTEND:20170217T003000Z
SUMMARY:The Daughters of Henry Wong Book Launch at Readings Hawthorn
END:VEVENT
END:VCALENDAR
