BEGIN:VCALENDAR
VERSION:2.0
PRODID:-//Squarespace Inc/Squarespace 6//v6//EN
BEGIN:VEVENT
UID:5a2771a08165f5ccfe5e2e13@squarespace.com
DTSTAMP:20171206T043005Z
DTSTART:20180222T230000Z
DTEND:20180223T005959Z
SUMMARY:Meet Author Nick Gleeson at Five Dock Library
END:VEVENT
END:VCALENDAR
