BEGIN:VCALENDAR
VERSION:2.0
PRODID:-//Squarespace Inc/Squarespace 6//v6//EN
BEGIN:VEVENT
UID:5ae7dda3352f5343172247ff@squarespace.com
DTSTAMP:20180501T033853Z
DTSTART:20180511T223000Z
DTEND:20180512T003000Z
SUMMARY:Girl Over the Edge Book Launch
GEO:-33.883138;151.191624
LOCATION:Gleebooks\, 49 Glebe Point Road\, Glebe\, NSW\, 2037\, Australia
END:VEVENT
END:VCALENDAR
