BEGIN:VCALENDAR
VERSION:2.0
PRODID:-//Squarespace Inc/Squarespace 6//v6//EN
BEGIN:VEVENT
UID:5da663342cbaed1e395070c7@squarespace.com
DTSTAMP:20191016T030534Z
DTSTART:20191025T060000Z
DTEND:20191025T083000Z
SUMMARY:Virginia Duigan in Conversation with Drusilla Modjeska 
GEO:-33.872095;151.209658
LOCATION:The Women's Club\, Level 4\, 179 Elizabeth Street\, Sydney
END:VEVENT
END:VCALENDAR
