BEGIN:VCALENDAR
VERSION:2.0
PRODID:-//Squarespace Inc/Squarespace 6//v6//EN
BEGIN:VEVENT
UID:5dc8b58394d2ca4234ccc53e@squarespace.com
DTSTAMP:20191111T031913Z
DTSTART:20191115T043000Z
DTEND:20191115T053000Z
SUMMARY:Katherine Johnson @ Devonport Library 
GEO:-41.17759;146.360488
LOCATION:devonport library\, 137 Rooke Street\, Devonport\, TAS\, 7310\, Au
 stralia
END:VEVENT
END:VCALENDAR
