BEGIN:VCALENDAR
VERSION:2.0
PRODID:-//Squarespace Inc/Squarespace 6//v6//EN
BEGIN:VEVENT
UID:5dc8d34a09cdf43d6dd203b4@squarespace.com
DTSTAMP:20191111T032826Z
DTSTART:20191115T033000Z
DTEND:20191117T043000Z
SUMMARY:Word For Word Festival
GEO:-38.146838;144.356968
LOCATION:Geelong Library & Heritage Centre\, 51 Little Malop Street\, Geelo
 ng\, VIC\, 3220\, Australia
END:VEVENT
END:VCALENDAR
