BEGIN:VCALENDAR
VERSION:2.0
PRODID:-//Squarespace Inc/Squarespace 6//v6//EN
BEGIN:VEVENT
UID:5db7850f9f0f297157375114@squarespace.com
DTSTAMP:20191029T010243Z
DTSTART:20191117T040000Z
DTEND:20191117T060000Z
SUMMARY:The Changing Room: Book Talk at Anna's Shop Around The Corner
GEO:-34.055646;151.152262
LOCATION:Anna's Shop Around The Corner\, Shop 6\, Munro Park\, Cronulla Bea
 ch\, 2230\, NSW\, Australia
END:VEVENT
END:VCALENDAR
