BEGIN:VCALENDAR
VERSION:2.0
PRODID:-//Squarespace Inc/Squarespace 6//v6//EN
BEGIN:VEVENT
UID:5db7864d71005f1c8c912156@squarespace.com
DTSTAMP:20191029T010253Z
DTSTART:20191121T070000Z
DTEND:20191121T090000Z
SUMMARY:Launch of The Changing Room in Canberra
GEO:-35.320006;149.132704
LOCATION:Paperchain Bookstore\, 34 Franklin Street\, Manuka\, 2603\, ACT\, 
 Australia
END:VEVENT
END:VCALENDAR
