BEGIN:VCALENDAR
VERSION:2.0
PRODID:-//Squarespace Inc/Squarespace 6//v6//EN
BEGIN:VEVENT
UID:5db7874d71005f1c8c9138f9@squarespace.com
DTSTAMP:20191029T010301Z
DTSTART:20191126T233000Z
DTEND:20191127T013000Z
SUMMARY:The Changing Room: Book Talk at Bega Library
GEO:-36.675459;149.841645
LOCATION:Bega Library\, Zingel Place\, Bega\, 2550\, NSW\, Australia
END:VEVENT
END:VCALENDAR
