BEGIN:VCALENDAR
VERSION:2.0
PRODID:-//Squarespace Inc/Squarespace 6//v6//EN
BEGIN:VEVENT
UID:5db78872b92003339c5abb8b@squarespace.com
DTSTAMP:20191029T010310Z
DTSTART:20191129T080000Z
DTEND:20191129T100000Z
SUMMARY:The Changing Room: Book Talk at Collins Bookshop
GEO:-34.314691;150.92288
LOCATION:Collins Booksellers\, 5/264 Lawrence Hargrave Drive\, Thirroul\, N
 SW\, 2515\, Australia
END:VEVENT
END:VCALENDAR
