BEGIN:VCALENDAR
VERSION:2.0
PRODID:-//Squarespace Inc/Squarespace 6//v6//EN
BEGIN:VEVENT
UID:5db77e8109af2347a8dbf392@squarespace.com
DTSTAMP:20191029T010224Z
DTSTART:20191106T000000Z
DTEND:20191106T030000Z
SUMMARY:The Changing Room: Book Talk at Merrylands Library
GEO:-33.838503;150.989914
LOCATION:Merrylands Library\, Cnr Newman St &\, Miller St\, Merrylands\, NS
 W\, 2160\, Australia
END:VEVENT
END:VCALENDAR
