BEGIN:VCALENDAR
VERSION:2.0
PRODID:-//Squarespace Inc/Squarespace 6//v6//EN
BEGIN:VEVENT
UID:5db7808d669baa467454ee4a@squarespace.com
DTSTAMP:20191029T010232Z
DTSTART:20191109T003000Z
DTEND:20191109T023000Z
SUMMARY:Christine Sykes in Conversation with Linda Godfrey
GEO:-34.425487;150.895336
LOCATION:The Philanthropy Tribe Cafe\, 151 Crown Street\, Wollongong\, NSW\
 , 2500\, Australia
END:VEVENT
END:VCALENDAR
